BEGIN:VCALENDAR
BEGIN:VEVENT
DESCRIPTION:\nMore Information: https://tickets.bytowne.ca/websales/pages/TicketSearchCriteria.aspx?evtInfo=603063~e548796f-93a0-4d9d-a0ac-45eae7d3eafc&\n\nMaria Angeles (Carmen Maura), a 79-year-old Spanish woman, lives alone in Tangier, Morocco, and enjoys her daily routine. However, her life is turned upside down when her daughter arrives from Madrid to sell the apartment in which she has always lived. Determined to stay, she does everything she can to get her home and her belongings back and, unexpectedly, rediscovers love and sensuality.\n\n“Maura is as good as it gets … there is no doubt in my mind why it became an audience winner in Venice” - Pete Hammond, Deadline
DTSTART:20260314T194500Z
DTEND:20260314T214100Z
LOCATION:ByTowne Cinema, 325 Rideau Street, Ottawa, ON, K1N 5Y4
SUMMARY:Calle M&#225;laga
UID:603063
DTSTAMP:20260421T054006Z
END:VEVENT
END:VCALENDAR
