BEGIN:VCALENDAR
BEGIN:VEVENT
DESCRIPTION:\nMore Information: https://tickets.bytowne.ca/websales/pages/TicketSearchCriteria.aspx?evtInfo=603058~e548796f-93a0-4d9d-a0ac-45eae7d3eafc&\n\nWallflower Colin (Harry Melling) leads a humdrum existence until he meets the impossibly handsome Ray (Alexander Skarsgård), a mysterious biker he is soon desperately devoted to. As Colin submits to Ray and enters an exciting new world of desire, he must decide the limits of his devotion.\n\nHilarious, subversive and sexy, "Pillion" is the acclaimed and surprisingly tender love story from writer-director Harry Lighton, starring Melling and Skarsgård in fearless performances as a mild young man and his leather-clad lover.  
DTSTART:20260315T011500Z
DTEND:20260315T030200Z
LOCATION:ByTowne Cinema, 325 Rideau Street, Ottawa, ON, K1N 5Y4
SUMMARY:Pillion
UID:603058
DTSTAMP:20260421T054452Z
END:VEVENT
END:VCALENDAR
