BEGIN:VCALENDAR
BEGIN:VEVENT
DESCRIPTION:\nMore Information: https://tickets.bytowne.ca/websales/pages/TicketSearchCriteria.aspx?evtInfo=603030~e548796f-93a0-4d9d-a0ac-45eae7d3eafc&\n\nCanadian director Grace Glowicki’s "Dead Lover" is a wild and strangely beautiful film trip that is destined to become a cult classic!\n\nA lonely gravedigger who stinks of corpses finally meets her dream man, but their whirlwind affair is cut short when he tragically drowns at sea. Grief-stricken, she goes to morbid lengths to resurrect him through madcap scientific experiments, resulting in grave consequences and unlikely love.\n\nThe "Dead Lover Stink-O-Vision" screenings turn cinema into a full-body experience. Each audience member receives a scratch-and-sniff card created by scent artists, unleashing a carefully choreographed bouquet of aromas—funky, foul, seductive, and downright unholy—that sync with key moments in the film. From grave-dirt rot to dandy cologne, ghost puke to BBQ stank, the smells guide viewers through a journey of fetid, funky love where romance and revulsion collide.
DTSTART:20260412T013000Z
DTEND:20260412T025600Z
LOCATION:ByTowne Cinema, 325 Rideau Street, Ottawa, ON, K1N 5Y4
SUMMARY:Dead Lover - Stink-O-Vision
UID:603030
DTSTAMP:20260421T034521Z
END:VEVENT
END:VCALENDAR
