BEGIN:VCALENDAR
BEGIN:VEVENT
DESCRIPTION:\nMore Information: https://tickets.bytowne.ca/websales/pages/TicketSearchCriteria.aspx?evtInfo=603028~e548796f-93a0-4d9d-a0ac-45eae7d3eafc&\n\nCanadian director Grace Glowicki’s "Dead Lover" is a wild and strangely beautiful film trip that is destined to become a cult classic!\n\nA lonely gravedigger who stinks of corpses finally meets her dream man, but their whirlwind affair is cut short when he tragically drowns at sea. Grief-stricken, she goes to morbid lengths to resurrect him through madcap scientific experiments, resulting in grave consequences and unlikely love.
DTSTART:20260411T011500Z
DTEND:20260411T024100Z
LOCATION:ByTowne Cinema, 325 Rideau Street, Ottawa, ON, K1N 5Y4
SUMMARY:Dead Lover
UID:603028
DTSTAMP:20260421T052702Z
END:VEVENT
END:VCALENDAR
